BEGIN:VCALENDAR
VERSION:2.0
PRODID:-//hacksw/handcal//NONSGML v1.0//EN
BEGIN:VEVENT
SUMMARY:2026 - TOURNOI VET - DISTRICT CHALOSSE - 7eme Journee
UID:5fde180d-3ac6-412b-875a-add5efbb5f5a
DTSTART:20260521T063000Z
DTEND:20260521T163000Z
LOCATION:Localisation  40500 MONTAUT
CATEGORIES:Sportif
STATUS:
URL;VALUE=URI:https://sass-petanque.sportsregions.fr/evenements/2026/05/21/2026-tournoi-vet-district-chalosse-7eme-journee-2419539
END:VEVENT
END:VCALENDAR
